BEGIN:VCALENDAR
PRODID:-//github.com/rianjs/ical.net//NONSGML ical.net 4.0//EN
VERSION:2.0
BEGIN:VEVENT
DESCRIPTION:Velkommen på skattejakt for store og små!
DTEND:20260503T160000
DTSTAMP:20260422T151727Z
DTSTART:20260503T120000
LOCATION:Thon Senter Bergen
SEQUENCE:0
SUMMARY:Landåspikene bruktmarked
UID:23739980-c9cb-47ba-bbca-23b2cddebb0d
END:VEVENT
END:VCALENDAR
