BEGIN:VCALENDAR
PRODID:-//github.com/rianjs/ical.net//NONSGML ical.net 4.0//EN
VERSION:2.0
BEGIN:VEVENT
DESCRIPTION:Gjør et medlemskupp! Nå har du som er medlem i Thon Senter Moa
   kundeklubb et nytt kuponghefte fullt av  gode tilbud  til deg!
DTEND:20260425T235959
DTSTAMP:20260421T163317Z
DTSTART;VALUE=DATE:20260420
LOCATION:Thon Senter Moa
SEQUENCE:0
SUMMARY:Kuponghefte for medlemmer
UID:d7e28f8f-be17-40e6-a235-36d478f3b038
END:VEVENT
END:VCALENDAR
