BEGIN:VCALENDAR
PRODID:-//github.com/rianjs/ical.net//NONSGML ical.net 4.0//EN
VERSION:2.0
BEGIN:VEVENT
DESCRIPTION:Lørdag 6. juni kl. 12.00 får vi besøk av barnas favoritt fra b
 rannvesenet – selveste Bjørnis!
DTEND:20260606T130000
DTSTAMP:20260420T031545Z
DTSTART:20260606T120000
LOCATION:Thon Senter Sandens
SEQUENCE:0
SUMMARY: Møt Bjørnis på Sandens!
UID:2d3a0fa2-e5f3-4cf0-b373-bbe933ebc648
END:VEVENT
END:VCALENDAR
