BEGIN:VCALENDAR
PRODID:-//github.com/rianjs/ical.net//NONSGML ical.net 4.0//EN
VERSION:2.0
BEGIN:VEVENT
DESCRIPTION:Lørdag 6. juni blir det BARNAS BRUKTMARKED i Kvadraturen fra k
 lokken 12.30 til 15.00 ❤️
DTEND:20260606T150000
DTSTAMP:20260420T031546Z
DTSTART:20260606T123000
LOCATION:Kvadraturen\, Kristiansand
SEQUENCE:0
SUMMARY:Barnas Bruktmarked
UID:492f839b-21ee-4f34-800f-94dafe9690d7
END:VEVENT
END:VCALENDAR
