BEGIN:VCALENDAR
PRODID:-//github.com/rianjs/ical.net//NONSGML ical.net 4.0//EN
VERSION:2.0
BEGIN:VEVENT
DESCRIPTION:Ice feirer bursdag og du er invitert med på feiringen!
DTEND:20260425T235959
DTSTAMP:20260422T114121Z
DTSTART;VALUE=DATE:20260424
LOCATION:2. etasje
SEQUENCE:0
SUMMARY:Bursdagsfeiring hos Ice!
UID:c9c7c065-237f-43b4-9c2c-132200780dfa
END:VEVENT
END:VCALENDAR
