BEGIN:VCALENDAR
PRODID:-//github.com/rianjs/ical.net//NONSGML ical.net 4.0//EN
VERSION:2.0
BEGIN:VEVENT
DESCRIPTION:Celli åpner på Thon Senter Ski 23.04 kl. 10 og du er invitert 
 til åpningsfest!
DTEND:20260423T210000
DTSTAMP:20260420T170710Z
DTSTART:20260423T100000
LOCATION:2. etasje
SEQUENCE:0
SUMMARY:Celli åpner på Thon Senter Ski
UID:3716fc82-0ff5-45c4-9450-0d085e148595
END:VEVENT
END:VCALENDAR
