BEGIN:VCALENDAR
PRODID:-//github.com/rianjs/ical.net//NONSGML ical.net 4.0//EN
VERSION:2.0
BEGIN:VEVENT
DESCRIPTION:Velkommen til Fredrik & Louisa som får besøk av Armani torsdag
  23. og fredag 24. april kl. 10:00-18:00.
DTEND:20260424T235959
DTSTAMP:20260424T083456Z
DTSTART;VALUE=DATE:20260423
LOCATION:Fredrik & Louisa\, 1. etasje
SEQUENCE:0
SUMMARY:Fredrik & Louisa får besøk av Armani
UID:f8dcd023-0e71-439a-ae1c-a4fb8c2c1529
END:VEVENT
END:VCALENDAR
