BEGIN:VCALENDAR
PRODID:-//github.com/rianjs/ical.net//NONSGML ical.net 4.0//EN
VERSION:2.0
BEGIN:VEVENT
DESCRIPTION:Lurer du på hva som er sesongens trender og nyheter? Følg med 
 på Insta Takeover med vår Personal Shopper Siv Anker-Eriksen!
DTEND:20260429T210000
DTSTAMP:20260420T183659Z
DTSTART:20260429T100000
LOCATION:Instagram @thonsenter_ski
SEQUENCE:0
SUMMARY:Insta-takeover med Personal Shopper
UID:008fa2ba-e9f1-443d-96fe-c2f672adff6b
END:VEVENT
END:VCALENDAR
