BEGIN:VCALENDAR
PRODID:-//github.com/rianjs/ical.net//NONSGML ical.net 4.0//EN
VERSION:2.0
BEGIN:VEVENT
DESCRIPTION:Lørdag 25. april feirer Espresso House sitt jubileum og de vil
  gjerne invitere dere til å ta del i feiringen!
DTEND:20260425T110000
DTSTAMP:20260422T114004Z
DTSTART:20260425T100000
LOCATION:Espresso House\, 2. etasje
SEQUENCE:0
SUMMARY:Jubileumsfeiring hos Espresso House!
UID:ee3da843-5f3e-483e-80d0-7ca8195cc28f
END:VEVENT
END:VCALENDAR
