BEGIN:VCALENDAR
PRODID:-//github.com/rianjs/ical.net//NONSGML ical.net 4.0//EN
VERSION:2.0
BEGIN:VEVENT
DESCRIPTION:Fredag og lørdag har Kicks leverandørbesøk av Nilens Jord på S
 tjernetorvet.
DTEND:20260425T235959
DTSTAMP:20260422T113829Z
DTSTART;VALUE=DATE:20260424
LOCATION:Stjernetorvet
SEQUENCE:0
SUMMARY:Kicks får besøk av Nilens Jord
UID:6d7c4752-e9c9-4dfb-aa30-f45da04436c6
END:VEVENT
END:VCALENDAR
