BEGIN:VCALENDAR
PRODID:-//github.com/rianjs/ical.net//NONSGML ical.net 4.0//EN
VERSION:2.0
BEGIN:VEVENT
DESCRIPTION:Som kundeklubbmedlem får du eksklusive kuponger du kan benytte
  i perioden 4.-9. mai.
DTEND:20260509T235959
DTSTAMP:20260420T200914Z
DTSTART;VALUE=DATE:20260504
LOCATION:I flere av butikkene på Ski Storsenter
SEQUENCE:0
SUMMARY:Kupongtilbud for kundeklubbmedlemmer
UID:d7b9200f-754f-432d-bf03-d36ea4876ee6
END:VEVENT
END:VCALENDAR
