BEGIN:VCALENDAR
PRODID:-//github.com/rianjs/ical.net//NONSGML ical.net 4.0//EN
VERSION:2.0
BEGIN:VEVENT
DESCRIPTION:Life åpner på Thon Senter Ski 23.04 kl. 10 og du er invitert t
 il åpningsfest!
DTEND:20260423T210000
DTSTAMP:20260422T114128Z
DTSTART:20260423T100000
LOCATION:1. etasje
SEQUENCE:0
SUMMARY:Life åpner på Thon Senter Ski
UID:2e54d76e-3582-4967-a985-93b640402c5d
END:VEVENT
END:VCALENDAR
