BEGIN:VCALENDAR
PRODID:-//github.com/rianjs/ical.net//NONSGML ical.net 4.0//EN
VERSION:2.0
BEGIN:VEVENT
DESCRIPTION:Følg med på kontoen @thonsenter_ski på Instagram for å se Kaja
  og Siri liveshoppe på senteret!
DTEND:20260423T210000
DTSTAMP:20260420T170707Z
DTSTART:20260423T200000
LOCATION:Instagram
SEQUENCE:0
SUMMARY:Liveshopping med Kaja og Siri
UID:825ae91a-c847-4e03-9904-a27c000799fe
END:VEVENT
END:VCALENDAR
