BEGIN:VCALENDAR
PRODID:-//github.com/rianjs/ical.net//NONSGML ical.net 4.0//EN
VERSION:2.0
BEGIN:VEVENT
DESCRIPTION:Hopla er Thon Senter Ski sin maskot og gleder seg masse til å 
 hilse på alle!
DTEND:20260509T235959
DTSTAMP:20260424T085443Z
DTSTART;VALUE=DATE:20260425
LOCATION:Ski Storsenter
SEQUENCE:0
SUMMARY:Møt Hopla
UID:a63f5b5c-eb2b-4d9a-9c56-6a4331875a8b
END:VEVENT
END:VCALENDAR
