BEGIN:VCALENDAR
PRODID:-//github.com/rianjs/ical.net//NONSGML ical.net 4.0//EN
VERSION:2.0
BEGIN:VEVENT
DESCRIPTION:Denne dagen inviterer vi lokale kultur- og idrettslag til å vi
 se frem hvem de er og hva de driver med.
DTEND:20260425T160000
DTSTAMP:20260421T140513Z
DTSTART:20260425T110000
LOCATION:Storotorget
SEQUENCE:0
SUMMARY:Kultur- og idrettsbasar på Storotorget
UID:421a4d72-01b4-4f16-b75d-0935485f0b09
END:VEVENT
END:VCALENDAR
