BEGIN:VCALENDAR
PRODID:-//github.com/rianjs/ical.net//NONSGML ical.net 4.0//EN
VERSION:2.0
BEGIN:VEVENT
DESCRIPTION:Velkommen til gratis konsert ved Strømmen Scene
DTEND:20260603T124500
DTSTAMP:20260420T095829Z
DTSTART:20260603T120000
LOCATION:Strømmen Scene\, 2. etg.
SEQUENCE:0
SUMMARY:Konsert med Maj Britt Andersen
UID:332a45fd-fbe3-4871-915c-2cd12e94f5ce
END:VEVENT
END:VCALENDAR
