BEGIN:VCALENDAR
PRODID:-//github.com/rianjs/ical.net//NONSGML ical.net 4.0//EN
VERSION:2.0
BEGIN:VEVENT
DESCRIPTION:Velkommen til gratis konsert
DTEND:20260506T124500
DTSTAMP:20260420T095830Z
DTSTART:20260506T120000
LOCATION:Strømmen Scene\, 2. etg.
SEQUENCE:0
SUMMARY:Lisa Stokke
UID:f697f89f-e6e2-46cd-8fd2-7f2f6c23328b
END:VEVENT
END:VCALENDAR
