BEGIN:VCALENDAR
PRODID:-//github.com/rianjs/ical.net//NONSGML ical.net 4.0//EN
VERSION:2.0
BEGIN:VEVENT
DESCRIPTION:Velkommen til gode tilbud og konkurranser i butikk hele uken\,
  20.-25. april hos Scorett.
DTEND:20260425T235959
DTSTAMP:20260420T095827Z
DTSTART;VALUE=DATE:20260423
LOCATION:Scorett
SEQUENCE:0
SUMMARY:Scorett fyller 1 år på Thon Senter Strømmen!
UID:88675f70-bf37-4af4-9d87-e49d92763557
END:VEVENT
END:VCALENDAR
