BEGIN:VCALENDAR
PRODID:-//github.com/rianjs/ical.net//NONSGML ical.net 4.0//EN
VERSION:2.0
BEGIN:VEVENT
DESCRIPTION:Lørdag 25.april fra kl.12.00 i 3.etg ved siden av Skeidar.
DTEND:20260425T160000
DTSTAMP:20260420T141204Z
DTSTART:20260425T120000
SEQUENCE:0
SUMMARY:Crantz Cookies POP UP lørdag 25.april
UID:e1862989-8bc9-4f64-8a3f-2244a90dc7cf
END:VEVENT
END:VCALENDAR
