BEGIN:VCALENDAR
PRODID:-//github.com/rianjs/ical.net//NONSGML ical.net 4.0//EN
VERSION:2.0
BEGIN:VEVENT
DESCRIPTION:Fredag 24.april fra kl.17.00 får vi storfint besøk av Exinne
DTEND:20260424T210000
DTSTAMP:20260420T141203Z
DTSTART:20260424T170000
SEQUENCE:0
SUMMARY:Det skjer hos Sport Outlet Triaden
UID:4951897f-4c90-4fc9-91e6-b1c1afdcad4e
END:VEVENT
END:VCALENDAR
